BEGIN:VCALENDAR
VERSION:2.0
PRODID:-//Naturpark-Spessart-Grundschule Partenstein - ECPv6.15.13.1//NONSGML v1.0//EN
CALSCALE:GREGORIAN
METHOD:PUBLISH
X-WR-CALNAME:Naturpark-Spessart-Grundschule Partenstein
X-ORIGINAL-URL:https://naturpark-spessart-schule.de
X-WR-CALDESC:Veranstaltungen für Naturpark-Spessart-Grundschule Partenstein
REFRESH-INTERVAL;VALUE=DURATION:PT1H
X-Robots-Tag:noindex
X-PUBLISHED-TTL:PT1H
BEGIN:VTIMEZONE
TZID:UTC
BEGIN:STANDARD
TZOFFSETFROM:+0000
TZOFFSETTO:+0000
TZNAME:UTC
DTSTART:20240101T000000
END:STANDARD
END:VTIMEZONE
BEGIN:VEVENT
DTSTART;TZID=UTC:20250409T000000
DTEND;TZID=UTC:20250409T000000
DTSTAMP:20260425T140652
CREATED:20250204T090158Z
LAST-MODIFIED:20250204T090158Z
UID:1895-1744156800-1744156800@naturpark-spessart-schule.de
SUMMARY:Gesundes Frühstück
DESCRIPTION:
URL:https://naturpark-spessart-schule.de/event/gesundes-fruehstueck-2/
END:VEVENT
BEGIN:VEVENT
DTSTART;TZID=UTC:20250411T100000
DTEND;TZID=UTC:20250411T110000
DTSTAMP:20260425T140652
CREATED:20250204T083445Z
LAST-MODIFIED:20250204T084201Z
UID:1881-1744365600-1744369200@naturpark-spessart-schule.de
SUMMARY:Osterbaumschmücken im Brunnengärtchen
DESCRIPTION:
URL:https://naturpark-spessart-schule.de/event/schulanmeldung-fuer-das-schuljahr-2025-2026/
END:VEVENT
BEGIN:VEVENT
DTSTART;VALUE=DATE:20250414
DTEND;VALUE=DATE:20250426
DTSTAMP:20260425T140652
CREATED:20250204T084316Z
LAST-MODIFIED:20250204T084316Z
UID:1887-1744588800-1745625599@naturpark-spessart-schule.de
SUMMARY:Osterferien
DESCRIPTION:
URL:https://naturpark-spessart-schule.de/event/osterferien/
END:VEVENT
END:VCALENDAR