BEGIN:VCALENDAR
VERSION:2.0
PRODID:-//Naturpark-Spessart-Grundschule Partenstein - ECPv6.15.13.1//NONSGML v1.0//EN
CALSCALE:GREGORIAN
METHOD:PUBLISH
X-ORIGINAL-URL:https://naturpark-spessart-schule.de
X-WR-CALDESC:Veranstaltungen für Naturpark-Spessart-Grundschule Partenstein
REFRESH-INTERVAL;VALUE=DURATION:PT1H
X-Robots-Tag:noindex
X-PUBLISHED-TTL:PT1H
BEGIN:VTIMEZONE
TZID:UTC
BEGIN:STANDARD
TZOFFSETFROM:+0000
TZOFFSETTO:+0000
TZNAME:UTC
DTSTART:20240101T000000
END:STANDARD
END:VTIMEZONE
BEGIN:VEVENT
DTSTART;VALUE=DATE:20260330
DTEND;VALUE=DATE:20260411
DTSTAMP:20260424T052144
CREATED:20250808T090042Z
LAST-MODIFIED:20250808T090042Z
UID:1976-1774828800-1775865599@naturpark-spessart-schule.de
SUMMARY:Osterferien
DESCRIPTION:
URL:https://naturpark-spessart-schule.de/event/osterferien-2/
END:VEVENT
BEGIN:VEVENT
DTSTART;VALUE=DATE:20260216
DTEND;VALUE=DATE:20260221
DTSTAMP:20260424T052144
CREATED:20250808T090013Z
LAST-MODIFIED:20250808T090013Z
UID:1974-1771200000-1771631999@naturpark-spessart-schule.de
SUMMARY:Winterferien
DESCRIPTION:
URL:https://naturpark-spessart-schule.de/event/winterferien/
END:VEVENT
BEGIN:VEVENT
DTSTART;VALUE=DATE:20251222
DTEND;VALUE=DATE:20260107
DTSTAMP:20260424T052144
CREATED:20250808T085930Z
LAST-MODIFIED:20250808T085930Z
UID:1972-1766361600-1767743999@naturpark-spessart-schule.de
SUMMARY:Weihnachtsferien
DESCRIPTION:
URL:https://naturpark-spessart-schule.de/event/weihnachtsferien-2/
END:VEVENT
BEGIN:VEVENT
DTSTART;TZID=UTC:20251127T160000
DTEND;TZID=UTC:20251127T180000
DTSTAMP:20260424T052144
CREATED:20251030T091518Z
LAST-MODIFIED:20251030T091518Z
UID:1993-1764259200-1764266400@naturpark-spessart-schule.de
SUMMARY:Elternsprechnachmittag
DESCRIPTION:
URL:https://naturpark-spessart-schule.de/event/elternsprechnachmittag-2/
END:VEVENT
BEGIN:VEVENT
DTSTART;TZID=UTC:20251125T190000
DTEND;TZID=UTC:20251125T203000
DTSTAMP:20260424T052144
CREATED:20251024T060039Z
LAST-MODIFIED:20251024T060039Z
UID:1988-1764097200-1764102600@naturpark-spessart-schule.de
SUMMARY:Informationselternabend zum besten Bildungsweg für mein Kind (3. und 4. Klasse) in der Grundschule Frammersbach
DESCRIPTION:
URL:https://naturpark-spessart-schule.de/event/informationselternabend-zum-besten-bildungsweg-fuer-mein-kind-3-und-4-klasse-in-der-grundschule-frammersbach/
END:VEVENT
BEGIN:VEVENT
DTSTART;VALUE=DATE:20251120
DTEND;VALUE=DATE:20251121
DTSTAMP:20260424T052144
CREATED:20251024T053300Z
LAST-MODIFIED:20251024T053300Z
UID:1986-1763596800-1763683199@naturpark-spessart-schule.de
SUMMARY:Gesundes Frühstück
DESCRIPTION:
URL:https://naturpark-spessart-schule.de/event/gesundes-fruehstueck-6/
END:VEVENT
BEGIN:VEVENT
DTSTART;VALUE=DATE:20251119
DTEND;VALUE=DATE:20251120
DTSTAMP:20260424T052144
CREATED:20250808T085900Z
LAST-MODIFIED:20250808T085900Z
UID:1970-1763510400-1763596799@naturpark-spessart-schule.de
SUMMARY:Buß- und Bettag - schulfrei
DESCRIPTION:
URL:https://naturpark-spessart-schule.de/event/buss-und-bettag-schulfrei-2/
END:VEVENT
BEGIN:VEVENT
DTSTART;TZID=UTC:20251112T083000
DTEND;TZID=UTC:20251112T223000
DTSTAMP:20260424T052144
CREATED:20250808T085715Z
LAST-MODIFIED:20250808T085715Z
UID:1964-1762936200-1762986600@naturpark-spessart-schule.de
SUMMARY:Kinderoper "PAPAGENO" - Hänsel und Gretel
DESCRIPTION:
URL:https://naturpark-spessart-schule.de/event/kinderoper-papageno-haensel-und-gretel/
END:VEVENT
BEGIN:VEVENT
DTSTART;VALUE=DATE:20251103
DTEND;VALUE=DATE:20251108
DTSTAMP:20260424T052144
CREATED:20250808T085831Z
LAST-MODIFIED:20250808T085831Z
UID:1968-1762128000-1762559999@naturpark-spessart-schule.de
SUMMARY:Herbstferien
DESCRIPTION:
URL:https://naturpark-spessart-schule.de/event/herbstferien/
END:VEVENT
BEGIN:VEVENT
DTSTART;VALUE=DATE:20251031
DTEND;VALUE=DATE:20251101
DTSTAMP:20260424T052144
CREATED:20251024T053109Z
LAST-MODIFIED:20251024T053109Z
UID:1984-1761868800-1761955199@naturpark-spessart-schule.de
SUMMARY:Apfelfest
DESCRIPTION:
URL:https://naturpark-spessart-schule.de/event/apfelfest-2/
END:VEVENT
BEGIN:VEVENT
DTSTART;VALUE=DATE:20251015
DTEND;VALUE=DATE:20251016
DTSTAMP:20260424T052144
CREATED:20250808T085621Z
LAST-MODIFIED:20250808T085621Z
UID:1962-1760486400-1760572799@naturpark-spessart-schule.de
SUMMARY:Theaterbesuch in Lohr
DESCRIPTION:
URL:https://naturpark-spessart-schule.de/event/theaterbesuch-in-lohr/
END:VEVENT
BEGIN:VEVENT
DTSTART;VALUE=DATE:20251003
DTEND;VALUE=DATE:20251004
DTSTAMP:20260424T052144
CREATED:20250808T085751Z
LAST-MODIFIED:20250808T085751Z
UID:1966-1759449600-1759535999@naturpark-spessart-schule.de
SUMMARY:Tag der deutschen Einheit - schulfrei
DESCRIPTION:
URL:https://naturpark-spessart-schule.de/event/tag-der-deutschen-einheit-schulfrei/
END:VEVENT
BEGIN:VEVENT
DTSTART;VALUE=DATE:20250925
DTEND;VALUE=DATE:20250926
DTSTAMP:20260424T052144
CREATED:20250808T085554Z
LAST-MODIFIED:20250808T085554Z
UID:1960-1758758400-1758844799@naturpark-spessart-schule.de
SUMMARY:Die Schulfotografin kommt!
DESCRIPTION:
URL:https://naturpark-spessart-schule.de/event/die-schulfotografin-kommt/
END:VEVENT
BEGIN:VEVENT
DTSTART;TZID=UTC:20250919T100000
DTEND;TZID=UTC:20250919T110000
DTSTAMP:20260424T052144
CREATED:20250808T085502Z
LAST-MODIFIED:20250808T085502Z
UID:1958-1758276000-1758279600@naturpark-spessart-schule.de
SUMMARY:Schulanfangsgottesdienst für die 1. Klasse in der evangelischen Christuskirche
DESCRIPTION:
URL:https://naturpark-spessart-schule.de/event/schulanfangsgottesdienst-fuer-die-1-klasse-in-der-evangelischen-christuskirche/
END:VEVENT
BEGIN:VEVENT
DTSTART;VALUE=DATE:20250916
DTEND;VALUE=DATE:20250917
DTSTAMP:20260424T052144
CREATED:20250808T085310Z
LAST-MODIFIED:20250808T085310Z
UID:1956-1757980800-1758067199@naturpark-spessart-schule.de
SUMMARY:1. Schultag
DESCRIPTION:
URL:https://naturpark-spessart-schule.de/event/1-schultag/
END:VEVENT
BEGIN:VEVENT
DTSTART;VALUE=DATE:20250801
DTEND;VALUE=DATE:20250916
DTSTAMP:20260424T052144
CREATED:20250204T090745Z
LAST-MODIFIED:20250204T090745Z
UID:1905-1754006400-1757980799@naturpark-spessart-schule.de
SUMMARY:Sommerferien
DESCRIPTION:
URL:https://naturpark-spessart-schule.de/event/sommerferien/
END:VEVENT
BEGIN:VEVENT
DTSTART;TZID=UTC:20250714T000000
DTEND;TZID=UTC:20250714T000000
DTSTAMP:20260424T052144
CREATED:20250204T090647Z
LAST-MODIFIED:20250204T090647Z
UID:1903-1752451200-1752451200@naturpark-spessart-schule.de
SUMMARY:Besuch der Scherenburgfestspiele "Aladin und die Wunderlampe"
DESCRIPTION:
URL:https://naturpark-spessart-schule.de/event/besuch-der-scherenburgfestspiele-aladin-und-die-wunderlampe/
END:VEVENT
BEGIN:VEVENT
DTSTART;TZID=UTC:20250704T140000
DTEND;TZID=UTC:20250704T170000
DTSTAMP:20260424T052144
CREATED:20250204T091212Z
LAST-MODIFIED:20250204T091212Z
UID:1907-1751637600-1751648400@naturpark-spessart-schule.de
SUMMARY:SCHULFEST
DESCRIPTION:
URL:https://naturpark-spessart-schule.de/event/schulfest/
END:VEVENT
BEGIN:VEVENT
DTSTART;TZID=UTC:20250701T000000
DTEND;TZID=UTC:20250701T000000
DTSTAMP:20260424T052144
CREATED:20250204T090433Z
LAST-MODIFIED:20250204T090433Z
UID:1901-1751328000-1751328000@naturpark-spessart-schule.de
SUMMARY:Gesundes Frühstück
DESCRIPTION:
URL:https://naturpark-spessart-schule.de/event/gesundes-fruehstueck-5/
END:VEVENT
BEGIN:VEVENT
DTSTART;VALUE=DATE:20250630
DTEND;VALUE=DATE:20250701
DTSTAMP:20260424T052144
CREATED:20250603T100410Z
LAST-MODIFIED:20250603T100410Z
UID:1946-1751241600-1751327999@naturpark-spessart-schule.de
SUMMARY:Bundesjugendspiele
DESCRIPTION:
URL:https://naturpark-spessart-schule.de/event/bundesjugendspiele/
END:VEVENT
BEGIN:VEVENT
DTSTART;VALUE=DATE:20250627
DTEND;VALUE=DATE:20250628
DTSTAMP:20260424T052144
CREATED:20250603T100316Z
LAST-MODIFIED:20250603T100316Z
UID:1944-1750982400-1751068799@naturpark-spessart-schule.de
SUMMARY:Aktionstag Musik
DESCRIPTION:
URL:https://naturpark-spessart-schule.de/event/aktionstag-musik/
END:VEVENT
BEGIN:VEVENT
DTSTART;VALUE=DATE:20250610
DTEND;VALUE=DATE:20250621
DTSTAMP:20260424T052144
CREATED:20250204T084513Z
LAST-MODIFIED:20250204T084513Z
UID:1891-1749513600-1750463999@naturpark-spessart-schule.de
SUMMARY:Pfingstferien
DESCRIPTION:
URL:https://naturpark-spessart-schule.de/event/pfingstferien/
END:VEVENT
BEGIN:VEVENT
DTSTART;TZID=UTC:20250605T000000
DTEND;TZID=UTC:20250605T000000
DTSTAMP:20260424T052144
CREATED:20250204T090348Z
LAST-MODIFIED:20250204T090348Z
UID:1899-1749081600-1749081600@naturpark-spessart-schule.de
SUMMARY:Gesundes Frühstück
DESCRIPTION:
URL:https://naturpark-spessart-schule.de/event/gesundes-fruehstueck-4/
END:VEVENT
BEGIN:VEVENT
DTSTART;TZID=UTC:20250506T000000
DTEND;TZID=UTC:20250506T000000
DTSTAMP:20260424T052144
CREATED:20250204T090259Z
LAST-MODIFIED:20250204T090259Z
UID:1897-1746489600-1746489600@naturpark-spessart-schule.de
SUMMARY:Gesundes Frühstück
DESCRIPTION:
URL:https://naturpark-spessart-schule.de/event/gesundes-fruehstueck-3/
END:VEVENT
BEGIN:VEVENT
DTSTART;TZID=UTC:20250502T000000
DTEND;TZID=UTC:20250502T000000
DTSTAMP:20260424T052144
CREATED:20250204T084400Z
LAST-MODIFIED:20250204T084400Z
UID:1889-1746144000-1746144000@naturpark-spessart-schule.de
SUMMARY:Ausgabe der Übertrittszeugnisse (4. Klasse)
DESCRIPTION:
URL:https://naturpark-spessart-schule.de/event/ausgabe-der-uebertrittszeugnisse-4-klasse/
END:VEVENT
BEGIN:VEVENT
DTSTART;VALUE=DATE:20250414
DTEND;VALUE=DATE:20250426
DTSTAMP:20260424T052144
CREATED:20250204T084316Z
LAST-MODIFIED:20250204T084316Z
UID:1887-1744588800-1745625599@naturpark-spessart-schule.de
SUMMARY:Osterferien
DESCRIPTION:
URL:https://naturpark-spessart-schule.de/event/osterferien/
END:VEVENT
BEGIN:VEVENT
DTSTART;TZID=UTC:20250411T100000
DTEND;TZID=UTC:20250411T110000
DTSTAMP:20260424T052144
CREATED:20250204T083445Z
LAST-MODIFIED:20250204T084201Z
UID:1881-1744365600-1744369200@naturpark-spessart-schule.de
SUMMARY:Osterbaumschmücken im Brunnengärtchen
DESCRIPTION:
URL:https://naturpark-spessart-schule.de/event/schulanmeldung-fuer-das-schuljahr-2025-2026/
END:VEVENT
BEGIN:VEVENT
DTSTART;TZID=UTC:20250409T000000
DTEND;TZID=UTC:20250409T000000
DTSTAMP:20260424T052144
CREATED:20250204T090158Z
LAST-MODIFIED:20250204T090158Z
UID:1895-1744156800-1744156800@naturpark-spessart-schule.de
SUMMARY:Gesundes Frühstück
DESCRIPTION:
URL:https://naturpark-spessart-schule.de/event/gesundes-fruehstueck-2/
END:VEVENT
BEGIN:VEVENT
DTSTART;TZID=UTC:20250313T000000
DTEND;TZID=UTC:20250313T000000
DTSTAMP:20260424T052144
CREATED:20250204T090113Z
LAST-MODIFIED:20250204T090113Z
UID:1893-1741824000-1741824000@naturpark-spessart-schule.de
SUMMARY:Gesundes Frühstück
DESCRIPTION:
URL:https://naturpark-spessart-schule.de/event/gesundes-fruehstueck/
END:VEVENT
BEGIN:VEVENT
DTSTART;TZID=UTC:20250311T160000
DTEND;TZID=UTC:20250311T173000
DTSTAMP:20260424T052144
CREATED:20250204T084248Z
LAST-MODIFIED:20250204T084248Z
UID:1885-1741708800-1741714200@naturpark-spessart-schule.de
SUMMARY:Schulanmeldung für das Schuljahr 2025/2026
DESCRIPTION:
URL:https://naturpark-spessart-schule.de/event/schulanmeldung-fuer-das-schuljahr-2025-2026-2/
END:VEVENT
END:VCALENDAR