BEGIN:VCALENDAR
VERSION:2.0
PRODID:-//Naturpark-Spessart-Grundschule Partenstein - ECPv6.15.13.1//NONSGML v1.0//EN
CALSCALE:GREGORIAN
METHOD:PUBLISH
X-ORIGINAL-URL:https://naturpark-spessart-schule.de
X-WR-CALDESC:Veranstaltungen für Naturpark-Spessart-Grundschule Partenstein
REFRESH-INTERVAL;VALUE=DURATION:PT1H
X-Robots-Tag:noindex
X-PUBLISHED-TTL:PT1H
BEGIN:VTIMEZONE
TZID:UTC
BEGIN:STANDARD
TZOFFSETFROM:+0000
TZOFFSETTO:+0000
TZNAME:UTC
DTSTART:20240101T000000
END:STANDARD
END:VTIMEZONE
BEGIN:VEVENT
DTSTART;VALUE=DATE:20250627
DTEND;VALUE=DATE:20250628
DTSTAMP:20260425T122412
CREATED:20250603T100316Z
LAST-MODIFIED:20250603T100316Z
UID:1944-1750982400-1751068799@naturpark-spessart-schule.de
SUMMARY:Aktionstag Musik
DESCRIPTION:
URL:https://naturpark-spessart-schule.de/event/aktionstag-musik/
END:VEVENT
END:VCALENDAR