BEGIN:VCALENDAR
VERSION:2.0
PRODID:-//Naturpark-Spessart-Grundschule Partenstein - ECPv6.15.13.1//NONSGML v1.0//EN
CALSCALE:GREGORIAN
METHOD:PUBLISH
X-ORIGINAL-URL:https://naturpark-spessart-schule.de
X-WR-CALDESC:Veranstaltungen für Naturpark-Spessart-Grundschule Partenstein
REFRESH-INTERVAL;VALUE=DURATION:PT1H
X-Robots-Tag:noindex
X-PUBLISHED-TTL:PT1H
BEGIN:VTIMEZONE
TZID:UTC
BEGIN:STANDARD
TZOFFSETFROM:+0000
TZOFFSETTO:+0000
TZNAME:UTC
DTSTART:20240101T000000
END:STANDARD
END:VTIMEZONE
BEGIN:VEVENT
DTSTART;TZID=UTC:20250411T100000
DTEND;TZID=UTC:20250411T110000
DTSTAMP:20260425T152238
CREATED:20250204T083445Z
LAST-MODIFIED:20250204T084201Z
UID:1881-1744365600-1744369200@naturpark-spessart-schule.de
SUMMARY:Osterbaumschmücken im Brunnengärtchen
DESCRIPTION:
URL:https://naturpark-spessart-schule.de/event/schulanmeldung-fuer-das-schuljahr-2025-2026/
END:VEVENT
END:VCALENDAR